BEGIN:VCALENDAR
VERSION:2.0
PRODID:-//ZUHÖREN.DRAUSSEN - ECPv6.15.11//NONSGML v1.0//EN
CALSCALE:GREGORIAN
METHOD:PUBLISH
X-ORIGINAL-URL:http://old.zuhoeren-draussen.de
X-WR-CALDESC:Veranstaltungen für ZUHÖREN.DRAUSSEN
REFRESH-INTERVAL;VALUE=DURATION:PT1H
X-Robots-Tag:noindex
X-PUBLISHED-TTL:PT1H
BEGIN:VTIMEZONE
TZID:Europe/Berlin
BEGIN:DAYLIGHT
TZOFFSETFROM:+0100
TZOFFSETTO:+0200
TZNAME:CEST
DTSTART:20240331T010000
END:DAYLIGHT
BEGIN:STANDARD
TZOFFSETFROM:+0200
TZOFFSETTO:+0100
TZNAME:CET
DTSTART:20241027T010000
END:STANDARD
BEGIN:DAYLIGHT
TZOFFSETFROM:+0100
TZOFFSETTO:+0200
TZNAME:CEST
DTSTART:20250330T010000
END:DAYLIGHT
BEGIN:STANDARD
TZOFFSETFROM:+0200
TZOFFSETTO:+0100
TZNAME:CET
DTSTART:20251026T010000
END:STANDARD
BEGIN:DAYLIGHT
TZOFFSETFROM:+0100
TZOFFSETTO:+0200
TZNAME:CEST
DTSTART:20260329T010000
END:DAYLIGHT
BEGIN:STANDARD
TZOFFSETFROM:+0200
TZOFFSETTO:+0100
TZNAME:CET
DTSTART:20261025T010000
END:STANDARD
END:VTIMEZONE
BEGIN:VEVENT
DTSTART;TZID=Europe/Berlin:20251213T100000
DTEND;TZID=Europe/Berlin:20251213T120000
DTSTAMP:20260422T131427
CREATED:20250721T133150Z
LAST-MODIFIED:20250912T112958Z
UID:6863-1765620000-1765627200@old.zuhoeren-draussen.de
SUMMARY:Warm Data Lab – Ein Denkraum in Zeiten des Wandels (2 von 50 Plätzen belegt)
DESCRIPTION:Teilnahme am Ereignis: 2 von 50 Plätzen belegt\nBestätigte Eingeladene: Monika Wüsthoff \, Alexandra Perl\nEreignistyp-Beschreibung:\nWas verbindet uns in einer Welt\, die sich rasant verändert? Wie können wir einander mit Aufmerksamkeit\, Respekt und Neugier zuhören? Und was passiert\, wenn wir unsere Perspektiven miteinander verweben\, statt sie gegeneinander abzuwägen?\nDas Warm Data Lab bietet einen Raum\, in dem Menschen sich begegnen und die Zusammenhänge zwischen Themen\, Rollen\, Generationen und Erfahrungen sichtbar werden. Wir schaffen einen Ort\, an dem Geschichten ohne Urteil und ohne Zielvorgabe geteilt werden können – mit der Bereitschaft\, einander wirklich zuzuhören.\nUnter der Leitung von Alexandra Perl\, Kommunikationsberaterin und ZUHÖR.Expertin bei ZUHÖREN.DRAUSSEN\, freuen wir uns auf alle\, die diesen besonderen Raum mit uns betreten.\nJede:r Interessierte ist eingeladen\, eine weitere Person mitzubringen.
URL:http://old.zuhoeren-draussen.de/termin/warm-data-lab-ein-denkraum-in-zeiten-des-wandels-1-von-50-plaetzen-belegt/
LOCATION:Zentralbibliothek KAP1\, Düsseldorf
END:VEVENT
BEGIN:VEVENT
DTSTART;TZID=Europe/Berlin:20251203T170000
DTEND;TZID=Europe/Berlin:20251203T190000
DTSTAMP:20260422T131427
CREATED:20250813T102024Z
LAST-MODIFIED:20250912T112958Z
UID:7093-1764781200-1764788400@old.zuhoeren-draussen.de
SUMMARY:Abgesagt: Ehrenamtlichen-Stammtisch mit Mehrandokht Feizi
DESCRIPTION:Teilnahme am Ereignis: 0 von 30 Plätzen belegt\nAbgesagte Eingeladene: Mehrandokht Feizi\nEreignistyp-Beschreibung:\nJeden ersten Mittwoch im Monat treffen wir uns mit allen Ehrenamtlichen\, die Lust haben zu einem monatlichen Stammtisch. Hier geht es um Austausch\, erzählen von den Erlebnissen beim Zuhören\, die Initiative ZUHÖREN.DRAUSSEN besser kennenlernen oder einfach in lockerer Runde beisammen sein. Melde Dich an\, oder komm spontan dazu!
URL:http://old.zuhoeren-draussen.de/termin/ehrenamtlichen-stammtisch-1-von-30-plaetzen-belegt-10/
LOCATION:am KIT (Kunst im Tunnel)
END:VEVENT
BEGIN:VEVENT
DTSTART;TZID=Europe/Berlin:20251113T180000
DTEND;TZID=Europe/Berlin:20251113T200000
DTSTAMP:20260422T131427
CREATED:20250723T141128Z
LAST-MODIFIED:20250912T112957Z
UID:6913-1763056800-1763064000@old.zuhoeren-draussen.de
SUMMARY:ZUHÖREN in schwierigen\, kontroversen Gesprächen (12 von 50 Plätzen belegt)
DESCRIPTION:Teilnahme am Ereignis: 12 von 50 Plätzen belegt\nBestätigte Eingeladene: Anna Nolden\, Andrea Kaul\, Ulrike Franzen \, Katrin Kaufmann \, Alexandra Bormann\, Zoha sharif yazdi\, Martina Möller\, Gabriele\, Gabriela Knöll\, Gabriela Knöll\, Rona Engelhorn\, Alexandra Perl\nOrt: Dies ist eine Zoom-Webkonferenz.\nSie können von Ihrem Computer\, Tablet oder Smartphone aus an dieser Konferenz teilnehmen.\nhttps://us04web.zoom.us/j/71726680884?pwd=99kxbibwIcWQGilmiRpylBXvTkJmla.1\nPasswort: pJR2Ws\nEreignistyp-Beschreibung:\nWir alle kennen die Spannung\, die von Gesprächen ausgeht\, die eher spalten als vereinen. Gerade politische Diskussionen können unsere engsten Beziehungen in der Familie\, mit Freunden oder mit Kollegen belasten. In unserem Workshop schauen wir uns an\, wie wir schwierige politische Gespräche mit Einfühlungsvermögen und Geschick führen können und lernen\, auf der Grundlage von Werten zuzuhören und nicht sofort zu urteilen. Welche Kompetenzen sind hilfreich und wie können wir diese aktiv in unseren Gesprächen einbringen? \nDozentin ist Alexandra Perl\, Kommunikationsberaterin und ZUHÖR.Expertin bei ZUHÖREN.DRAUSSEN\nHier der ZOOM-Link:\nhttps://us02web.zoom.us/j/87216472300
URL:http://old.zuhoeren-draussen.de/termin/zuhoeren-in-schwierigen-kontroversen-gespraechen-1-von-50-plaetzen-belegt-2/
LOCATION:https://us04web.zoom.us/j/71726680884?pwd=99kxbibwIcWQGilmiRpylBXvTkJmla.1
END:VEVENT
BEGIN:VEVENT
DTSTART;TZID=Europe/Berlin:20251105T170000
DTEND;TZID=Europe/Berlin:20251105T190000
DTSTAMP:20260422T131427
CREATED:20250813T102024Z
LAST-MODIFIED:20250912T112957Z
UID:7092-1762362000-1762369200@old.zuhoeren-draussen.de
SUMMARY:Ehrenamtlichen-Stammtisch (1 von 30 Plätzen belegt)
DESCRIPTION:Teilnahme am Ereignis: 1 von 30 Plätzen belegt\nBestätigte Eingeladene: Mehrandokht Feizi\nEreignistyp-Beschreibung:\nJeden ersten Mittwoch im Monat treffen wir uns mit allen Ehrenamtlichen\, die Lust haben zu einem monatlichen Stammtisch. Hier geht es um Austausch\, erzählen von den Erlebnissen beim Zuhören\, die Initiative ZUHÖREN.DRAUSSEN besser kennenlernen oder einfach in lockerer Runde beisammen sein. Melde Dich an\, oder komm spontan dazu!
URL:http://old.zuhoeren-draussen.de/termin/ehrenamtlichen-stammtisch-1-von-30-plaetzen-belegt-9/
LOCATION:am KIT (Kunst im Tunnel)
END:VEVENT
BEGIN:VEVENT
DTSTART;TZID=Europe/Berlin:20251031T150000
DTEND;TZID=Europe/Berlin:20251031T163000
DTSTAMP:20260422T131427
CREATED:20250819T123054Z
LAST-MODIFIED:20250912T112957Z
UID:7212-1761922800-1761928200@old.zuhoeren-draussen.de
SUMMARY:ZUHÖR.Bank Kaiserswerth\, Kaiserswerther Markt (1 von 5 Plätzen belegt)
DESCRIPTION:Teilnahme am Ereignis: 1 von 5 Plätzen belegt\nBestätigte Eingeladene: Doris Bast-Forster\nEreignistyp-Beschreibung:\nDie ZUHÖR.Bank am Kaiserswerther Markt steht gegenüber des Bücherschranks.\nIn Kooperation mit der Bezirksvertretung 5 Benedict Stieber und Babette de Fries und dem zentrum plus der Caritas Kaiserswerth.
URL:http://old.zuhoeren-draussen.de/termin/zuhoer-bank-kaiserswerth-kaiserswerther-markt-1-von-5-plaetzen-belegt-30/
LOCATION:Kaiserswerther Markt\, Düsseldorf Kaiserswerth
END:VEVENT
BEGIN:VEVENT
DTSTART;TZID=Europe/Berlin:20251014T180000
DTEND;TZID=Europe/Berlin:20251014T200000
DTSTAMP:20260422T131427
CREATED:20250723T141128Z
LAST-MODIFIED:20250912T112956Z
UID:6911-1760464800-1760472000@old.zuhoeren-draussen.de
SUMMARY:Zuhören ohne Vorurteile über Zoom  (9 von 50 Plätzen belegt)
DESCRIPTION:Teilnahme am Ereignis: 9 von 50 Plätzen belegt\nBestätigte Eingeladene: Petra Kotthoff\, Andrea Kaul\, Ulrike Franzen \, Alexandra Bormann\, Martina Möller\, Martina Möller\, Gabriela Knöll\, Susanne Kraus \, Alexandra Perl\nOrt: Dies ist eine Zoom-Webkonferenz.\nSie können von Ihrem Computer\, Tablet oder Smartphone aus an dieser Konferenz teilnehmen.\nhttps://us04web.zoom.us/j/73776219349?pwd=ua7Wt2nQGXwf7xC3bL2MCf7mvydYsd.1\nPasswort: 61HfqF\nEreignistyp-Beschreibung:\nDieser interaktive Workshop zeigt\, wie Denkmuster\, gesellschaftliche Prägungen und persönliche Erfahrungen das Zuhören oft unbewusst beeinflussen.\nWir werfen einen Blick auf die unsichtbaren Filter\, durch die wir unsere Mitmenschen wahrnehmen\, und erkennen\, wie diese unser Verstehen verzerren können.\nMit praktischen Übungen und Impulsen schärfen wir die Wahrnehmung für bewertungsfreies Zuhören\, erkunden Vielfalt in ihren Dimensionen und entwickeln erste Schritte hin zu mehr Offenheit\, Empathie und Verbindlichkeit im Gespräch. Der Workshop sensibilisiert dafür\, wie Zuhören unsere Realität mitgestaltet und wie wir sie bewusst verändern können.\nZentrale Themen:\n* Die Macht der Filter: Woher sie kommen\, wie sie wirken\n* Der Unterschied zwischen Hören und Zuhören\n* Praktische Hörübungen für mehr Achtsamkeit\n* Perspektivwechsel & Empathie im Gespräch\n* Zuhören mit Ohren\, Augen und Herz\nHier der ZOOM-Link:\nhttps://us02web.zoom.us/j/87216472300
URL:http://old.zuhoeren-draussen.de/termin/zuhoeren-ohne-vorurteile-ueber-zoom-1-von-50-plaetzen-belegt/
LOCATION:https://us04web.zoom.us/j/73776219349?pwd=ua7Wt2nQGXwf7xC3bL2MCf7mvydYsd.1
END:VEVENT
BEGIN:VEVENT
DTSTART;TZID=Europe/Berlin:20251010T150000
DTEND;TZID=Europe/Berlin:20251010T163000
DTSTAMP:20260422T131427
CREATED:20250819T123053Z
LAST-MODIFIED:20250912T112956Z
UID:7211-1760108400-1760113800@old.zuhoeren-draussen.de
SUMMARY:ZUHÖR.Bank Kaiserswerth\, Kaiserswerther Markt (1 von 5 Plätzen belegt)
DESCRIPTION:Teilnahme am Ereignis: 1 von 5 Plätzen belegt\nBestätigte Eingeladene: Doris Bast-Forster\nEreignistyp-Beschreibung:\nDie ZUHÖR.Bank am Kaiserswerther Markt steht gegenüber des Bücherschranks.\nIn Kooperation mit der Bezirksvertretung 5 Benedict Stieber und Babette de Fries und dem zentrum plus der Caritas Kaiserswerth.
URL:http://old.zuhoeren-draussen.de/termin/zuhoer-bank-kaiserswerth-kaiserswerther-markt-1-von-5-plaetzen-belegt-29/
LOCATION:Kaiserswerther Markt\, Düsseldorf Kaiserswerth
END:VEVENT
BEGIN:VEVENT
DTSTART;TZID=Europe/Berlin:20251008T170000
DTEND;TZID=Europe/Berlin:20251008T190000
DTSTAMP:20260422T131427
CREATED:20250709T140832Z
LAST-MODIFIED:20250709T140832Z
UID:6691-1759942800-1759950000@old.zuhoeren-draussen.de
SUMMARY:Schreibwerkstatt  (2 von 10 Plätzen belegt)
DESCRIPTION:Teilnahme am Ereignis: 2 von 10 Plätzen belegt\nBestätigte Eingeladene: Mehrandokht Feizi\, me
URL:http://old.zuhoeren-draussen.de/termin/schreibwerkstatt-2-von-10-plaetzen-belegt-3/
LOCATION:Zentralbibliothek KAP1
END:VEVENT
BEGIN:VEVENT
DTSTART;TZID=Europe/Berlin:20251001T170000
DTEND;TZID=Europe/Berlin:20251001T190000
DTSTAMP:20260422T131427
CREATED:20250813T102023Z
LAST-MODIFIED:20250912T112956Z
UID:7091-1759338000-1759345200@old.zuhoeren-draussen.de
SUMMARY:Ehrenamtlichen-Stammtisch (1 von 30 Plätzen belegt)
DESCRIPTION:Teilnahme am Ereignis: 1 von 30 Plätzen belegt\nBestätigte Eingeladene: Mehrandokht Feizi\nEreignistyp-Beschreibung:\nJeden ersten Mittwoch im Monat treffen wir uns mit allen Ehrenamtlichen\, die Lust haben zu einem monatlichen Stammtisch. Hier geht es um Austausch\, erzählen von den Erlebnissen beim Zuhören\, die Initiative ZUHÖREN.DRAUSSEN besser kennenlernen oder einfach in lockerer Runde beisammen sein. Melde Dich an\, oder komm spontan dazu!
URL:http://old.zuhoeren-draussen.de/termin/ehrenamtlichen-stammtisch-1-von-30-plaetzen-belegt-8/
LOCATION:am KIT (Kunst im Tunnel)
END:VEVENT
BEGIN:VEVENT
DTSTART;TZID=Europe/Berlin:20251001T150000
DTEND;TZID=Europe/Berlin:20251001T163000
DTSTAMP:20260422T131427
CREATED:20250819T082654Z
LAST-MODIFIED:20250912T112955Z
UID:7166-1759330800-1759336200@old.zuhoeren-draussen.de
SUMMARY:ZUHÖR.Bank Flingern\, Platz der Diakonie (1 von 10 Plätzen belegt)
DESCRIPTION:Teilnahme am Ereignis: 1 von 10 Plätzen belegt\nBestätigte Eingeladene: Hella Henckel
URL:http://old.zuhoeren-draussen.de/termin/zuhoer-bank-flingern-platz-der-diakonie-1-von-10-plaetzen-belegt-31/
LOCATION:Platz der Diakonie\, Düsseldorf
END:VEVENT
BEGIN:VEVENT
DTSTART;TZID=Europe/Berlin:20251001T143000
DTEND;TZID=Europe/Berlin:20251001T160000
DTSTAMP:20260422T131427
CREATED:20250819T082654Z
LAST-MODIFIED:20250912T112955Z
UID:7167-1759329000-1759334400@old.zuhoeren-draussen.de
SUMMARY:ZUHÖR.Bank Altstadt\, Auf Höhe des Rathausufer 8 (1 von 5 Plätzen belegt)
DESCRIPTION:Teilnahme am Ereignis: 1 von 5 Plätzen belegt\nBestätigte Eingeladene: Ernst Walter Poser\nEreignistyp-Beschreibung:\nIn Kooperation mit dem Rathaus der Stadt Düsseldorf und unseren Paten der Stadt: Dr. Stephan Keller\, Clara Gerlach\, Klaudia Zepunkte und Josef Hinkel.
URL:http://old.zuhoeren-draussen.de/termin/zuhoer-bank-altstadt-auf-hoehe-des-rathausufer-8-1-von-5-plaetzen-belegt-42/
LOCATION:Rathausufer 8
END:VEVENT
BEGIN:VEVENT
DTSTART;TZID=Europe/Berlin:20250927T110000
DTEND;TZID=Europe/Berlin:20250927T130000
DTSTAMP:20260422T131427
CREATED:20250723T141127Z
LAST-MODIFIED:20250912T112955Z
UID:6909-1758970800-1758978000@old.zuhoeren-draussen.de
SUMMARY:ZUHÖR.Raum Zentralbibliothek (2 von 7 Plätzen belegt)
DESCRIPTION:Teilnahme am Ereignis: 2 von 7 Plätzen belegt\nBestätigte Eingeladene: Monika Wüsthoff \, Mehrandokht Feizi\nEreignistyp-Beschreibung:
URL:http://old.zuhoeren-draussen.de/termin/zuhoer-raum-zentralbibliothek-1-von-7-plaetzen-belegt-13/
LOCATION:Zentralbibliothek Düsseldorf
END:VEVENT
BEGIN:VEVENT
DTSTART;TZID=Europe/Berlin:20250926T160000
DTEND;TZID=Europe/Berlin:20250926T180000
DTSTAMP:20260422T131427
CREATED:20250819T082653Z
LAST-MODIFIED:20250912T112954Z
UID:7165-1758902400-1758909600@old.zuhoeren-draussen.de
SUMMARY:ZUHÖR.Bank Düsseltal\, Zoopark (1 von 10 Plätzen belegt)
DESCRIPTION:Teilnahme am Ereignis: 1 von 10 Plätzen belegt\nBestätigte Eingeladene: Susanne Korff\nEreignistyp-Beschreibung:\nIn Kooperation mit der Bezirksvertretung 2 Philipp Schlee und Frank Griese\, den zentrum plus der Caritas und Diakonie Flingern und Düsseltal\, Altern unterm Regenbogen\, dem Mieterbüro Flingern und dem Seniorenrat.
URL:http://old.zuhoeren-draussen.de/termin/zuhoer-bank-duesseltal-zoopark-1-von-10-plaetzen-belegt-40/
LOCATION:Eingang Brehmplatz vor dem Zoopavillon\, Düsseldorf
END:VEVENT
BEGIN:VEVENT
DTSTART;TZID=Europe/Berlin:20250926T143000
DTEND;TZID=Europe/Berlin:20250926T160000
DTSTAMP:20260422T131427
CREATED:20250819T123051Z
LAST-MODIFIED:20250912T112954Z
UID:7206-1758897000-1758902400@old.zuhoeren-draussen.de
SUMMARY:ZUHÖR.Bank Kaiserswerth\, Kaiserswerther Markt (1 von 5 Plätzen belegt)
DESCRIPTION:Teilnahme am Ereignis: 1 von 5 Plätzen belegt\nBestätigte Eingeladene: Doris Bast-Forster\nEreignistyp-Beschreibung:\nDie ZUHÖR.Bank am Kaiserswerther Markt steht gegenüber des Bücherschranks.\nIn Kooperation mit der Bezirksvertretung 5 Benedict Stieber und Babette de Fries und dem zentrum plus der Caritas Kaiserswerth.
URL:http://old.zuhoeren-draussen.de/termin/zuhoer-bank-kaiserswerth-kaiserswerther-markt-1-von-5-plaetzen-belegt-28/
LOCATION:Kaiserswerther Markt\, Düsseldorf Kaiserswerth
END:VEVENT
BEGIN:VEVENT
DTSTART;TZID=Europe/Berlin:20250926T143000
DTEND;TZID=Europe/Berlin:20250926T160000
DTSTAMP:20260422T131427
CREATED:20250819T082652Z
LAST-MODIFIED:20250912T112955Z
UID:7164-1758897000-1758902400@old.zuhoeren-draussen.de
SUMMARY:ZUHÖR.Bank ELLER\, Gertrudisplatz (1 von 10 Plätzen belegt)
DESCRIPTION:Teilnahme am Ereignis: 1 von 10 Plätzen belegt\nBestätigte Eingeladene: Andrea Kaul
URL:http://old.zuhoeren-draussen.de/termin/zuhoer-bank-eller-gertrudisplatz-1-von-10-plaetzen-belegt-16/
LOCATION:ELLER\, Gertrudisplatz
END:VEVENT
BEGIN:VEVENT
DTSTART;TZID=Europe/Berlin:20250926T103000
DTEND;TZID=Europe/Berlin:20250926T120000
DTSTAMP:20260422T131427
CREATED:20250819T082652Z
LAST-MODIFIED:20250912T112954Z
UID:7163-1758882600-1758888000@old.zuhoeren-draussen.de
SUMMARY:ZUHÖR.Bank Oberkassel\, Barbarossaplatz (2 von 6 Plätzen belegt)
DESCRIPTION:Teilnahme am Ereignis: 2 von 6 Plätzen belegt\nBestätigte Eingeladene: Ernst-Walter\, Peter Eiberger
URL:http://old.zuhoeren-draussen.de/termin/zuhoer-bank-oberkassel-barbarossaplatz-1-von-6-plaetzen-belegt-4/
LOCATION:Barbarossaplatz Düsseldorf
END:VEVENT
BEGIN:VEVENT
DTSTART;TZID=Europe/Berlin:20250924T153000
DTEND;TZID=Europe/Berlin:20250924T170000
DTSTAMP:20260422T131427
CREATED:20250820T090127Z
LAST-MODIFIED:20250912T112954Z
UID:7253-1758727800-1758733200@old.zuhoeren-draussen.de
SUMMARY:ZUHÖR.Bank Ratingen West Berliner Platz (1 von 5 Plätzen belegt)
DESCRIPTION:Teilnahme am Ereignis: 1 von 5 Plätzen belegt\nBestätigte Eingeladene: Susanne Korff
URL:http://old.zuhoeren-draussen.de/termin/zuhoer-bank-ratingen-west-berliner-platz-1-von-5-plaetzen-belegt-18/
LOCATION:West Berliner Platz
END:VEVENT
BEGIN:VEVENT
DTSTART;TZID=Europe/Berlin:20250924T100000
DTEND;TZID=Europe/Berlin:20250924T120000
DTSTAMP:20260422T131427
CREATED:20250819T082652Z
LAST-MODIFIED:20250912T112953Z
UID:7162-1758708000-1758715200@old.zuhoeren-draussen.de
SUMMARY:ZUHÖR.Aktion Ratingen (2 von 5 Plätzen belegt)
DESCRIPTION:Teilnahme am Ereignis: 2 von 5 Plätzen belegt\nBestätigte Eingeladene: Ulrike Franzen\, Susanne Korff\nEreignistyp-Beschreibung:\nTreffpunkt ist am Marktbrunnen.\nZuhörer*innen von ZUHÖREN.DRAUSSEN hören zu!
URL:http://old.zuhoeren-draussen.de/termin/zuhoer-aktion-ratingen-1-von-5-plaetzen-belegt-2/
LOCATION:Marktbrunnen\, Ratingen
END:VEVENT
BEGIN:VEVENT
DTSTART;TZID=Europe/Berlin:20250922T180000
DTEND;TZID=Europe/Berlin:20250922T191500
DTSTAMP:20260422T131427
CREATED:20250717T095540Z
LAST-MODIFIED:20250912T112953Z
UID:6798-1758564000-1758568500@old.zuhoeren-draussen.de
SUMMARY:Einführungsseminar via ZOOM (7 von 50 Plätzen belegt)
DESCRIPTION:Teilnahme am Ereignis: 7 von 50 Plätzen belegt\nBestätigte Eingeladene: Pia JUNGBLUTH\, zoha\, Lilly Witte\, Johanna Menningen\, Dr. Angela Scaglione\, Barbara Düllmann-McKee \, Alexandra Perl\nEreignistyp-Beschreibung:\nDas Einführungsseminar ist für Dich\, wenn Du mehr über ZUHÖREN.DRAUSSEN erfahren möchtest.\nBist du interessiert an einem Ehrenamt bei uns? Oder möchtest Du mit uns als Institution kooperieren? Vielleicht möchtest Du ZUHÖREN.DRAUSSEN in Deiner Stadt ins Leben rufen?\nHier bekommst Du einen ersten Eindruck:\n* Entstehung des Projekts\n* Grundausrichtung von ZUHÖREN.DRAUSSEN\n* Einführung ins ZUHÖREN: Wem hört Ihr zu? Wie hört Ihr zu? Was braucht Ihr um gut zuzuhören?\n* Stand der Dinge\, Ablauf und Parameter\nHier der ZOOM-Link:\nhttps://us02web.zoom.us/j/87216472300
URL:http://old.zuhoeren-draussen.de/termin/einfuehrungsseminar-via-zoom-1-von-50-plaetzen-belegt-2/
END:VEVENT
BEGIN:VEVENT
DTSTART;TZID=Europe/Berlin:20250922T120000
DTEND;TZID=Europe/Berlin:20250922T133000
DTSTAMP:20260422T131427
CREATED:20250819T082651Z
LAST-MODIFIED:20250912T112953Z
UID:7161-1758542400-1758547800@old.zuhoeren-draussen.de
SUMMARY:ZUHÖREN am Bilker Arcaden  (1 von 10 Plätzen belegt)
DESCRIPTION:Teilnahme am Ereignis: 1 von 10 Plätzen belegt\nBestätigte Eingeladene: Anna Vroomen
URL:http://old.zuhoeren-draussen.de/termin/zuhoeren-am-bilker-arcaden-1-von-10-plaetzen-belegt-15/
LOCATION:Bilker Arcaden
END:VEVENT
BEGIN:VEVENT
DTSTART;TZID=Europe/Berlin:20250920T110000
DTEND;TZID=Europe/Berlin:20250920T130000
DTSTAMP:20260422T131427
CREATED:20250723T141127Z
LAST-MODIFIED:20250912T112953Z
UID:6908-1758366000-1758373200@old.zuhoeren-draussen.de
SUMMARY:ZUHÖR.Raum Zentralbibliothek (1 von 7 Plätzen belegt)
DESCRIPTION:Teilnahme am Ereignis: 1 von 7 Plätzen belegt\nBestätigte Eingeladene: Mehrandokht Feizi\nEreignistyp-Beschreibung:
URL:http://old.zuhoeren-draussen.de/termin/zuhoer-raum-zentralbibliothek-1-von-7-plaetzen-belegt-12/
LOCATION:Zentralbibliothek Düsseldorf
END:VEVENT
BEGIN:VEVENT
DTSTART;TZID=Europe/Berlin:20250919T130000
DTEND;TZID=Europe/Berlin:20250919T143000
DTSTAMP:20260422T131427
CREATED:20250820T090126Z
LAST-MODIFIED:20250912T112952Z
UID:7252-1758286800-1758292200@old.zuhoeren-draussen.de
SUMMARY:ZUHÖR.Bank Benrath\, Benrather Markt (1 von 5 Plätzen belegt)
DESCRIPTION:Teilnahme am Ereignis: 1 von 5 Plätzen belegt\nBestätigte Eingeladene: Marc Gippert
URL:http://old.zuhoeren-draussen.de/termin/zuhoer-bank-benrath-benrather-markt-1-von-5-plaetzen-belegt-28/
END:VEVENT
BEGIN:VEVENT
DTSTART;TZID=Europe/Berlin:20250918T150000
DTEND;TZID=Europe/Berlin:20250918T170000
DTSTAMP:20260422T131427
CREATED:20250820T090126Z
LAST-MODIFIED:20250912T112952Z
UID:7251-1758207600-1758214800@old.zuhoeren-draussen.de
SUMMARY:ZUHÖR.Raum Stadtbibliothek Mitte\, Ratingen (1 von 5 Plätzen belegt)
DESCRIPTION:Teilnahme am Ereignis: 1 von 5 Plätzen belegt\nBestätigte Eingeladene: Susanne Korff
URL:http://old.zuhoeren-draussen.de/termin/zuhoer-raum-stadtbibliothek-mitte-ratingen-1-von-5-plaetzen-belegt-3/
LOCATION:Peter-Brüning-Platz 3\, 40878 Ratingen
END:VEVENT
BEGIN:VEVENT
DTSTART;TZID=Europe/Berlin:20250918T150000
DTEND;TZID=Europe/Berlin:20250918T163000
DTSTAMP:20260422T131427
CREATED:20250820T090126Z
LAST-MODIFIED:20250912T112952Z
UID:7250-1758207600-1758213000@old.zuhoeren-draussen.de
SUMMARY:ZUHÖR.Bank Holthausen\, Kamper Acker (1 von 5 Plätzen belegt)
DESCRIPTION:Teilnahme am Ereignis: 1 von 5 Plätzen belegt\nBestätigte Eingeladene: Marc Gippert
URL:http://old.zuhoeren-draussen.de/termin/zuhoer-bank-holthausen-kamper-acker-1-von-5-plaetzen-belegt-32/
LOCATION:Holthasen\, Kamper Acker
END:VEVENT
BEGIN:VEVENT
DTSTART;TZID=Europe/Berlin:20250917T150000
DTEND;TZID=Europe/Berlin:20250917T163000
DTSTAMP:20260422T131427
CREATED:20250819T082650Z
LAST-MODIFIED:20250912T112951Z
UID:7160-1758121200-1758126600@old.zuhoeren-draussen.de
SUMMARY:ZUHÖR.Bank Flingern\, Platz der Diakonie (2 von 10 Plätzen belegt)
DESCRIPTION:Teilnahme am Ereignis: 2 von 10 Plätzen belegt\nBestätigte Eingeladene: Bärbel Peekhaus\, Hella Henckel
URL:http://old.zuhoeren-draussen.de/termin/zuhoer-bank-flingern-platz-der-diakonie-1-von-10-plaetzen-belegt-30/
LOCATION:Platz der Diakonie\, Düsseldorf
END:VEVENT
BEGIN:VEVENT
DTSTART;TZID=Europe/Berlin:20250917T143000
DTEND;TZID=Europe/Berlin:20250917T160000
DTSTAMP:20260422T131427
CREATED:20250721T101010Z
LAST-MODIFIED:20250912T112952Z
UID:6835-1758119400-1758124800@old.zuhoeren-draussen.de
SUMMARY:ZUHÖR.Bank Altstadt\, Auf Höhe des Rathausufer 8 (1 von 5 Plätzen belegt)
DESCRIPTION:Teilnahme am Ereignis: 1 von 5 Plätzen belegt\nBestätigte Eingeladene: Ernst Walter Poser\nEreignistyp-Beschreibung:\nIn Kooperation mit dem Rathaus der Stadt Düsseldorf und unseren Paten der Stadt: Dr. Stephan Keller\, Clara Gerlach\, Klaudia Zepunkte und Josef Hinkel.
URL:http://old.zuhoeren-draussen.de/termin/zuhoer-bank-altstadt-auf-hoehe-des-rathausufer-8-1-von-5-plaetzen-belegt-41/
LOCATION:Rathausufer 8
END:VEVENT
BEGIN:VEVENT
DTSTART;TZID=Europe/Berlin:20250916T140000
DTEND;TZID=Europe/Berlin:20250916T153000
DTSTAMP:20260422T131427
CREATED:20250819T082650Z
LAST-MODIFIED:20250912T112951Z
UID:7159-1758031200-1758036600@old.zuhoeren-draussen.de
SUMMARY:ZUHÖR.Bank Oberbilk\, Oberbilker Markt (1 von 5 Plätzen belegt)
DESCRIPTION:Teilnahme am Ereignis: 1 von 5 Plätzen belegt\nBestätigte Eingeladene: Christine Dünker\nEreignistyp-Beschreibung:\nIn Kooperation mit der Bezirksvertretung 3 Dietmar Wolf\, Marko Siegesmund und Christian Prahl und dem zentrum plus der Caritas Oberbilk.
URL:http://old.zuhoeren-draussen.de/termin/zuhoer-bank-oberbilk-oberbilker-markt-1-von-5-plaetzen-belegt-5/
LOCATION:Oberbilker Markt
END:VEVENT
BEGIN:VEVENT
DTSTART;TZID=Europe/Berlin:20250913T150000
DTEND;TZID=Europe/Berlin:20250913T180000
DTSTAMP:20260422T131427
CREATED:20250902T094139Z
LAST-MODIFIED:20250912T112950Z
UID:7361-1757775600-1757786400@old.zuhoeren-draussen.de
SUMMARY:Sommerfest Haus der Kulturen (8 von 40 Plätzen belegt)
DESCRIPTION:Teilnahme am Ereignis: 8 von 40 Plätzen belegt\nBestätigte Eingeladene: Elisabeth Weiss\, Susanne Korff\, Cornelia Feltes\, Susanne Kraus \, Christine Dünker\, Susanne Kraus\, Mehrandokht Feizi\, Christine von Fragstein\nAbgesagte Eingeladene: Christine von Fragstein
URL:http://old.zuhoeren-draussen.de/termin/sommerfest-haus-der-kulturen-7-von-40-plaetzen-belegt/
LOCATION:Hofgarten\, Düsseldorf
END:VEVENT
BEGIN:VEVENT
DTSTART;TZID=Europe/Berlin:20250913T120000
DTEND;TZID=Europe/Berlin:20250913T180000
DTSTAMP:20260422T131427
CREATED:20250709T140832Z
LAST-MODIFIED:20250709T140832Z
UID:6690-1757764800-1757786400@old.zuhoeren-draussen.de
SUMMARY:Sommerfest Haus der Kulturen (2 von 40 Plätzen belegt)
DESCRIPTION:Teilnahme am Ereignis: 2 von 40 Plätzen belegt\nBestätigte Eingeladene: Mehrandokht Feizi\, Christine von Fragstein
URL:http://old.zuhoeren-draussen.de/termin/sommerfest-haus-der-kulturen-2-von-40-plaetzen-belegt-3/
LOCATION:Hofgarten\, Düsseldorf
END:VEVENT
BEGIN:VEVENT
DTSTART;TZID=Europe/Berlin:20250913T120000
DTEND;TZID=Europe/Berlin:20250913T150000
DTSTAMP:20260422T131427
CREATED:20250902T094138Z
LAST-MODIFIED:20250912T112950Z
UID:7359-1757764800-1757775600@old.zuhoeren-draussen.de
SUMMARY:Sommerfest Haus der Kulturen (5 von 40 Plätzen belegt)
DESCRIPTION:Teilnahme am Ereignis: 5 von 40 Plätzen belegt\nBestätigte Eingeladene: Ernst-Walter\, Caterina Lobascio\, Susanne Kraus\, Mehrandokht Feizi\, Christine von Fragstein
URL:http://old.zuhoeren-draussen.de/termin/sommerfest-haus-der-kulturen-3-von-40-plaetzen-belegt/
LOCATION:Hofgarten\, Düsseldorf
END:VEVENT
END:VCALENDAR